1.2020803522
0.0000000000
0.0000000000
-1.2020803522
262400.2743762686
1492420.1028086299
