1.2172283483
0.0000000000
0.0000000000
-1.2172283483
256670.1289043574
1487512.2855304822
