1.1971374198
0.0000000000
0.0000000000
-1.1971374198
259568.1726847572
1500035.3019348425
