0.8564478315
0.0000000000
0.0000000000
-0.8564478315
244074.7693344734
1467852.9144356141
