0.8902040075
0.0000000000
0.0000000000
-0.8902040075
244436.0081370400
1479499.2968952686
