0.5603732060
0.0000000000
0.0000000000
-0.5603732060
244373.1371588716
1477505.2284920018
