0.5935015453
0.0000000000
0.0000000000
-0.5935015453
243590.5853966893
1476079.3346890397
