0.6235970270
0.0000000000
0.0000000000
-0.6235970270
251379.2548026045
1491163.3245575931
