0.6168790644
0.0000000000
0.0000000000
-0.6168790644
260312.8776377237
1495443.7862723093
