0.5959608042
0.0000000000
0.0000000000
-0.5959608042
253499.3351681589
1493421.1590428415
