0.5768896148
0.0000000000
0.0000000000
-0.5768896148
259223.1567860399
1494882.8250400748
