0.6517905171
0.0000000000
0.0000000000
-0.6517905171
261334.6659030310
1498435.3608141586
