1.3921235142
0.0000000000
0.0000000000
-1.3921235142
239241.2110923882
1491610.9310663533
