1.4037290784
0.0000000000
0.0000000000
-1.4037290784
249749.0502952869
1474789.4027402541
