1.3935574763
0.0000000000
0.0000000000
-1.3935574763
241279.2183698802
1473886.2206461288
