1.3983189464
0.0000000000
0.0000000000
-1.3983189464
256374.5869850791
1489723.6043407801
