1.3847653924
0.0000000000
0.0000000000
-1.3847653924
259169.7909888094
1500633.1815332724
