1.4317674289
0.0000000000
0.0000000000
-1.4317674289
253125.7481411156
1497921.7004650775
