0.6853647044
0.0000000000
0.0000000000
-0.6853647044
266655.7729365708
1491905.7010937128
