0.6924690324
0.0000000000
0.0000000000
-0.6924690324
268495.4425308701
1500596.9668591202
