0.500000
0.000000
-0.000000
-0.500000
2260000.250000
614999.750000
