0.500000
0.000000
-0.000000
-0.500000
2330000.250000
659999.750000
