1.000000
0.000000
-0.000000
-1.000000
2175000.500000
919999.500000
