1.000000
0.000000
-0.000000
-1.000000
2200000.500000
924999.500000
