1.000000
0.000000
-0.000000
-1.000000
2215000.500000
799999.500000
