1.000000
0.000000
-0.000000
-1.000000
2225000.500000
889999.500000
