1
0
-0
-1
1622110.5
2969654.5
