1.0000000000
0.0000000000
0.0000000000
-1.0000000000
1654918.5000000000
2904038.5000000000
