1
0
-0
-1
1835362.5
3199310.5
