1
0
-0
-1
1753342.5000019073
3215714.4999997132
