1
0
-0
-1
1736938.5
3232118.5
