1
0
-0
-1
1868170.5
3232118.5
