1
0
-0
-1
1950190.5
3248522.5
