1
0
-0
-1
1950190.5
3264926.5
