1
0
-0
-1
1622110.5
2739998.5
