1
0
-0
-1
1622110.5
3018866.5
