1
0
-0
-1
1572898.5
3084482.5
