1
0
-0
-1
1540090.5
3133694.5
