1
0
-0
-1
1556494.5
2805614.5
