1
0
-0
-1
1654918.5
2871230.5
