0.500000
0.000000
-0.000000
-0.500000
1680000.250000
239999.750000
