0.500000
0.000000
-0.000000
-0.500000
1686000.250000
209999.750000
