0.500000
0.000000
-0.000000
-0.500000
1698000.250000
155999.750000
