0.500000
0.000000
-0.000000
-0.500000
1698000.250000
323999.750000
