0.500000
0.000000
-0.000000
-0.500000
1704000.250000
191999.750000
