0.500000
0.000000
-0.000000
-0.500000
1716000.250000
377999.750000
