0.500000
0.000000
-0.000000
-0.500000
1722000.250000
161999.750000
