0.500000
0.000000
-0.000000
-0.500000
1734000.250000
407999.750000
