0.500000
0.000000
-0.000000
-0.500000
1740000.250000
329999.750000
