0.500000
0.000000
-0.000000
-0.500000
1746000.250000
395999.750000
